BEGIN:VCALENDAR
VERSION:2.0
PRODID:-//LexFA: The Lexington SF &amp; Fantasy Association - ECPv6.15.20//NONSGML v1.0//EN
CALSCALE:GREGORIAN
METHOD:PUBLISH
X-WR-CALNAME:LexFA: The Lexington SF &amp; Fantasy Association
X-ORIGINAL-URL:https://www.lexfa.org
X-WR-CALDESC:Events for LexFA: The Lexington SF &amp; Fantasy Association
REFRESH-INTERVAL;VALUE=DURATION:PT1H
X-Robots-Tag:noindex
X-PUBLISHED-TTL:PT1H
BEGIN:VTIMEZONE
TZID:America/Vancouver
BEGIN:DAYLIGHT
TZOFFSETFROM:-0800
TZOFFSETTO:-0700
TZNAME:PDT
DTSTART:20240310T100000
END:DAYLIGHT
BEGIN:STANDARD
TZOFFSETFROM:-0700
TZOFFSETTO:-0800
TZNAME:PST
DTSTART:20241103T090000
END:STANDARD
BEGIN:DAYLIGHT
TZOFFSETFROM:-0800
TZOFFSETTO:-0700
TZNAME:PDT
DTSTART:20250309T100000
END:DAYLIGHT
BEGIN:STANDARD
TZOFFSETFROM:-0700
TZOFFSETTO:-0800
TZNAME:PST
DTSTART:20251102T090000
END:STANDARD
BEGIN:DAYLIGHT
TZOFFSETFROM:-0800
TZOFFSETTO:-0700
TZNAME:PDT
DTSTART:20260308T100000
END:DAYLIGHT
BEGIN:STANDARD
TZOFFSETFROM:-0700
TZOFFSETTO:-0800
TZNAME:PST
DTSTART:20261101T090000
END:STANDARD
END:VTIMEZONE
BEGIN:VEVENT
DTSTART;TZID=America/Vancouver:20250823T100000
DTEND;TZID=America/Vancouver:20250823T170000
DTSTAMP:20260419T184533
CREATED:20240830T202256Z
LAST-MODIFIED:20260108T140659Z
UID:514-1755943200-1755968400@www.lexfa.org
SUMMARY:ETOWNCON - COMIC & POP CULTURE EVENT
DESCRIPTION:EtownCon is a collectors’ mecca convention located in the beautiful City of Elizabethtown\, Kentucky. Striving to be Kentucky’s best and truest comic convention featuring fandoms of multiple genres. As a long-time collector of comics and pop culture items the promoter brings Kentucky an event that will satisfy any fandom! \nEtownCon will have exhibitors that cater to a wide-spectrum of interests including: \n•comic books • magazines • toys • video games \n•movies • wrestling • sci-fi • sports cards \n•anime manga • cosplay • artwork sketches • apparel \n•gaming • sports cards • retro toys • horror \nIn addition\, a roster of comic industry professionals and fandom-related celebrities are guaranteed in attendance for fans to meet and greet. This will be one show not to miss!
URL:https://www.lexfa.org/event/etowncon-comic-pop-culture-event/
LOCATION:PRITCHARD COMMUNITY CENTER – ELIZABETHTOWN\, KENTUCKY\, KY\, United States
CATEGORIES:Conventions
END:VEVENT
END:VCALENDAR