BEGIN:VCALENDAR
VERSION:2.0
PRODID:-//LexFA: The Lexington SF &amp; Fantasy Association - ECPv6.15.20//NONSGML v1.0//EN
CALSCALE:GREGORIAN
METHOD:PUBLISH
X-WR-CALNAME:LexFA: The Lexington SF &amp; Fantasy Association
X-ORIGINAL-URL:https://www.lexfa.org
X-WR-CALDESC:Events for LexFA: The Lexington SF &amp; Fantasy Association
REFRESH-INTERVAL;VALUE=DURATION:PT1H
X-Robots-Tag:noindex
X-PUBLISHED-TTL:PT1H
BEGIN:VTIMEZONE
TZID:America/Vancouver
BEGIN:DAYLIGHT
TZOFFSETFROM:-0800
TZOFFSETTO:-0700
TZNAME:PDT
DTSTART:20230312T100000
END:DAYLIGHT
BEGIN:STANDARD
TZOFFSETFROM:-0700
TZOFFSETTO:-0800
TZNAME:PST
DTSTART:20231105T090000
END:STANDARD
BEGIN:DAYLIGHT
TZOFFSETFROM:-0800
TZOFFSETTO:-0700
TZNAME:PDT
DTSTART:20240310T100000
END:DAYLIGHT
BEGIN:STANDARD
TZOFFSETFROM:-0700
TZOFFSETTO:-0800
TZNAME:PST
DTSTART:20241103T090000
END:STANDARD
BEGIN:DAYLIGHT
TZOFFSETFROM:-0800
TZOFFSETTO:-0700
TZNAME:PDT
DTSTART:20250309T100000
END:DAYLIGHT
BEGIN:STANDARD
TZOFFSETFROM:-0700
TZOFFSETTO:-0800
TZNAME:PST
DTSTART:20251102T090000
END:STANDARD
END:VTIMEZONE
BEGIN:VEVENT
DTSTART;TZID=America/Vancouver:20241207T100000
DTEND;TZID=America/Vancouver:20241207T170000
DTSTAMP:20260419T141439
CREATED:20241130T174027Z
LAST-MODIFIED:20260108T140913Z
UID:525-1733565600-1733590800@www.lexfa.org
SUMMARY:Louisville Con
DESCRIPTION:LOUISVILLECON – POP CULTURE EVENT\n\n\n\nIt’s a collectors mecca pop culture convention located in beautiful Derby City of Louisville\, Kentucky. The LouisvilleCon strives to be Kentucky’s best and truest comic con featuring fandoms of multiple genres. As long-time fans of comic books\, toys\, pop-culture\,  sports cards\, manga/anime\, wrestling\, gaming\, cosplay\, animation\, sci-fi and fantasy\, the promoter wanted to bring that style event to Kentucky.\n\nStay up to date with the show. Join our mailing list – Click Here | Interested in Sponsorship Opportunities ? – Click Here\nThe show will have exhibitors that cater to a wide-spectrum of interests including comic books\, magazines\, toys\, gaming\, video games\, movies\, records\, wrestling\, \, television\, anime\, manga\, cosplay\, artwork\, sketches and apparel plus much more. In addition\, a roster of comic industry professionals and fandom-related celebrities are in attendance for attendees to meet and greet. This will be one show not to miss!\n\n\n\n\n\nGUESTS\, EVENTS & ATTRACTIONS: http://www.louisvillecon.com/#4934662
URL:https://www.lexfa.org/event/louisville-con/
LOCATION:HOLIDAY INN CONVENTION CENTER\, 1325 South Hurstbourne Parkway\, Louisville\, KY\, 40222\, United States
CATEGORIES:Conventions
END:VEVENT
END:VCALENDAR