BEGIN:VCALENDAR
VERSION:2.0
PRODID:-//LexFA: The Lexington SF &amp; Fantasy Association - ECPv6.15.20//NONSGML v1.0//EN
CALSCALE:GREGORIAN
METHOD:PUBLISH
X-WR-CALNAME:LexFA: The Lexington SF &amp; Fantasy Association
X-ORIGINAL-URL:https://www.lexfa.org
X-WR-CALDESC:Events for LexFA: The Lexington SF &amp; Fantasy Association
REFRESH-INTERVAL;VALUE=DURATION:PT1H
X-Robots-Tag:noindex
X-PUBLISHED-TTL:PT1H
BEGIN:VTIMEZONE
TZID:America/Vancouver
BEGIN:DAYLIGHT
TZOFFSETFROM:-0800
TZOFFSETTO:-0700
TZNAME:PDT
DTSTART:20230312T100000
END:DAYLIGHT
BEGIN:STANDARD
TZOFFSETFROM:-0700
TZOFFSETTO:-0800
TZNAME:PST
DTSTART:20231105T090000
END:STANDARD
BEGIN:DAYLIGHT
TZOFFSETFROM:-0800
TZOFFSETTO:-0700
TZNAME:PDT
DTSTART:20240310T100000
END:DAYLIGHT
BEGIN:STANDARD
TZOFFSETFROM:-0700
TZOFFSETTO:-0800
TZNAME:PST
DTSTART:20241103T090000
END:STANDARD
BEGIN:DAYLIGHT
TZOFFSETFROM:-0800
TZOFFSETTO:-0700
TZNAME:PDT
DTSTART:20250309T100000
END:DAYLIGHT
BEGIN:STANDARD
TZOFFSETFROM:-0700
TZOFFSETTO:-0800
TZNAME:PST
DTSTART:20251102T090000
END:STANDARD
END:VTIMEZONE
BEGIN:VEVENT
DTSTART;TZID=America/Vancouver:20240713T100000
DTEND;TZID=America/Vancouver:20240713T170000
DTSTAMP:20260419T072244
CREATED:20240610T223357Z
LAST-MODIFIED:20240610T223359Z
UID:504-1720864800-1720890000@www.lexfa.org
SUMMARY:FRANKFORTCON - POP CULTURE EVENT
DESCRIPTION:  \nIt’s a collectors mecca convention located in beautiful Capital City of Frankfort\, Kentucky. The FrankfortCon strives to be Kentucky’s best and truest comic con featuring fandoms of multiple genres. As long-time fans of comic books\, toys\, pop-culture\,  sports cards\, manga/anime\, wrestling\, gaming\, cosplay\, animation\, sci-fi and fantasy\, the promoter wanted to bring that style event to Kentucky.
URL:https://www.lexfa.org/event/frankfortcon-pop-culture-event/
LOCATION:CAPITAL PLAZA HOTEL | FRANKFORT\, KENTUCKY\, 405 WILKINSON BLVD\, Frankfort\, KY\, 40601\, United States
CATEGORIES:Conventions
END:VEVENT
BEGIN:VEVENT
DTSTART;TZID=America/Vancouver:20240714T100000
DTEND;TZID=America/Vancouver:20240714T170000
DTSTAMP:20260419T072244
CREATED:20240115T182308Z
LAST-MODIFIED:20240115T182308Z
UID:490-1720951200-1720976400@www.lexfa.org
SUMMARY:LOUISVILLE ANIME-FEST
DESCRIPTION:LOUISVILLE ANIME-FEST\nSUNDAY JULY 14\, 2024 | 10:00AM – 5:00PM\nTRIPPLE CROWN PAVILION | FREE PARKING\n$20 ADMISSION | KIDS FREE | LOUISVILLE\, KY\nMAILING LIST | FACEBOOK | INSTAGRAM\n 
URL:https://www.lexfa.org/event/louisville-anime-fest/
LOCATION:TRIPLE CROWNE PAVILION\, 1780 Plantside Dr\, Jeffersontown\, KY 40299\, Louisville\, KY\, 40299\, United States
CATEGORIES:Conventions
END:VEVENT
END:VCALENDAR